BEGIN:VCALENDAR
VERSION:2.0
PRODID:-//hacksw/handcal//NONSGML v1.0//EN
BEGIN:VEVENT
DTSTART:20260120T173000Z
DTEND:20260120T190000Z
LOCATION:Maison Des Ingénieurs et Scientifiques de Lyon (MDIS) \n15, Rue du Plat \n69002 LYON
ORGANIZER;CN=David Tavoularis - Lyon (CSA):MAILTO:david.tavoularis@mycom-osi.com
SUMMARY:Réunion de bureau Groupe de Lyon - Mardi 20 janvier 18h30 (MDIS)
DESCRIPTION:Chère camarade, cher camarade,Notre prochain bureau se tiendra le mardi 20 janvier à 18h30 à la Maison des Ingénieurs et Scientifiques de Lyon (MDIS - 15 rue du Plat, proche Bellecour).Cette réunion...
URL:https://association.centralesupelec-alumni.com/fr/group/lyon-csa/299/calendar/reunion-de-bureau-groupe-de-lyon-mardi-20-janvier-18h30-mdis/2026/01/20/9729
BEGIN:VALARM
TRIGGER:-P0DT1H0M0S
ACTION:DISPLAY
END:VALARM
END:VEVENT
END:VCALENDAR