BEGIN:VCALENDAR
VERSION:2.0
PRODID:-//hacksw/handcal//NONSGML v1.0//EN
BEGIN:VEVENT
DTSTART:20260210T174500Z
DTEND:20260210T203000Z
LOCATION:Salon du Cinquième étage Rue Jean Goujon Paris 8  \n8, Rue Jean Goujon \n75008 PARIS
ORGANIZER;CN=Francis d'Auriac - Énergie Durable (CSA):MAILTO:energie.conseil.plus@gmail.com
SUMMARY:" La révolution des cellules photovoltaïques pérovskites : une opportunité pour produire en France et Europe ?
DESCRIPTION:\nLe groupe Energie Durable vous invite à assister à la conférence La révolution des cellules photovoltaïques pérovskites : \nune opportunité pour produire en France et Europe ?par Gérard Creuzet...
URL:https://association.centralesupelec-alumni.com/fr/group/energie-durable-csa/323/calendar/-la-revolution-des-cellules-photovoltaiques-perovskites-une-opportunite-pour-produire-en-france-et-europe/2026/02/10/9724
BEGIN:VALARM
TRIGGER:-P0DT1H0M0S
ACTION:DISPLAY
END:VALARM
END:VEVENT
END:VCALENDAR