BEGIN:VCALENDAR
VERSION:2.0
PRODID:-//hacksw/handcal//NONSGML v1.0//EN
BEGIN:VEVENT
DTSTART:20260602T163000Z
DTEND:20260602T180000Z
LOCATION:https://zoom.us/j/9719797700
ORGANIZER;CN=Jacqueline Pasdeloup:MAILTO:jacqueline@asso-supelec.org
SUMMARY:Carrière - Webinaire « Pitch et recherche d'emploi » (Méthode)
DESCRIPTION:\nQu’est-ce qui détermine une recherche courte ? Quelles en sont les différentes phases ? Comment organiser son temps ? Où mettre ses priorités ?Du bilan de carrière à la prise de fonction, il n’est...
URL:https://association.centralesupelec-alumni.com/fr/event/carriere-webinaire-pitch-et-recherche-d-emploi-methode/2026/06/02/9722
BEGIN:VALARM
TRIGGER:-P0DT1H0M0S
ACTION:DISPLAY
END:VALARM
END:VEVENT
END:VCALENDAR