BEGIN:VCALENDAR
VERSION:2.0
PRODID:-//hacksw/handcal//NONSGML v1.0//EN
BEGIN:VEVENT
DTSTART:20260123T110000Z
DTEND:20260123T130000Z
LOCATION:Château Sainte-Anne \n103, Rue du Vieux Moulin \n1160 AUDERGHEM
ORGANIZER;CN=Frédéric Misheletti - Belgique (CSA):MAILTO:frederic.misheletti@gmail.com
SUMMARY:Déjeuner-Conférence  SEII - Contribution à l’histoire des ingénieurs dans l’économie et la société belges
DESCRIPTION:La Société Européenne des Ingénieurs et des industriels nous convie pour leur déjeuner mensuel au Château Sainte-Anne ce vendredi 23 janvier à 12h30.\nInscription sur le site de la SEII \nProf....
URL:https://association.centralesupelec-alumni.com/fr/group/belgique-csa/55/calendar/dejeuner-conference-seii-contribution-a-l-histoire-des-ingenieurs-dans-l-economie-et-la-societe-belges/2026/01/23/9711
BEGIN:VALARM
TRIGGER:-P0DT1H0M0S
ACTION:DISPLAY
END:VALARM
END:VEVENT
END:VCALENDAR