BEGIN:VCALENDAR
VERSION:2.0
PRODID:-//hacksw/handcal//NONSGML v1.0//EN
BEGIN:VEVENT
DTSTART:20260205T100000Z
DTEND:20260205T123000Z
LOCATION:Café Citron \n2-27-21 Minami-Aoyama, Minato-ku, Tokyo, Japon \n107-0062 MINATO CITY
ORGANIZER;CN=Laurent Wolff - Japon (CSA):MAILTO:laurent.wolff@centraliens.net
SUMMARY:Shinnenkai
DESCRIPTION:As we step into 2026, CSAlumni Japan is pleased to invite you to the first event of the year, our shinnenkai.\nIt will be a great opportunity to reconnect, welcome new members of the community, and...
URL:https://association.centralesupelec-alumni.com/fr/group/japon-csa/237/calendar/shinnenkai/2026/02/05/9699
BEGIN:VALARM
TRIGGER:-P0DT1H0M0S
ACTION:DISPLAY
END:VALARM
END:VEVENT
END:VCALENDAR