BEGIN:VCALENDAR
VERSION:2.0
PRODID:-//hacksw/handcal//NONSGML v1.0//EN
BEGIN:VEVENT
DTSTART:20260120T170000Z
DTEND:20260120T190000Z
LOCATION:https://us02web.zoom.us/j/87810932749?pwd=w3yQUVg6AA5DQfodbTDfWMcfalWb3z.1
ORGANIZER;CN=Marc Darras - Ingénieur et Développement Durable (CSA):MAILTO:marc.darras.pro@free.fr
SUMMARY:Réunion mensuelle GP Ingénieur et Développement Durable
DESCRIPTION:Code d'accès du webinar 483697...
URL:https://association.centralesupelec-alumni.com/fr/group/ingenieur-et-developpement-durable-csa/67/calendar/reunion-mensuelle-gp-ingenieur-et-developpement-durable/2026/01/20/9696
BEGIN:VALARM
TRIGGER:-P0DT1H0M0S
ACTION:DISPLAY
END:VALARM
END:VEVENT
END:VCALENDAR