BEGIN:VCALENDAR
VERSION:2.0
PRODID:-//hacksw/handcal//NONSGML v1.0//EN
BEGIN:VEVENT
DTSTART:20260218T173000Z
DTEND:20260218T183000Z
LOCATION:Maison CentraleSupélec Espace Schlumberger au 5ème \n8, Rue Jean Goujon \n75008 PARIS
ORGANIZER;CN=Frédéric Chateau:MAILTO:frederic.chateau@live.fr
SUMMARY:Afterwork de rentrée des consultants C²SUP
DESCRIPTION:Le mercredi 18 février , rejoins-nous pour notre afterwork !Cette soirée est ouverte à tous les membres du groupe professionnel des Consultants.Naturellement, tous les diplômés sont les bienvenus :...
URL:https://association.centralesupelec-alumni.com/fr/event/afterwork-de-rentree-des-consultants-c-sup/2026/02/18/9691
BEGIN:VALARM
TRIGGER:-P0DT1H0M0S
ACTION:DISPLAY
END:VALARM
END:VEVENT
END:VCALENDAR