BEGIN:VCALENDAR
VERSION:2.0
PRODID:-//hacksw/handcal//NONSGML v1.0//EN
BEGIN:VEVENT
DTSTART:20260130T180000Z
DTEND:20260130T210000Z
LOCATION:L'atelier du Petit Jardin \n196, Rue Elie Wiesel \n34000 MONTPELLIER
ORGANIZER;CN=Dominique Launay - Occitanie-Méditerranée (CSA):MAILTO:dominique.launay@centraliens.net
SUMMARY:SOIREE VOEUX 2026
DESCRIPTION:BonjourNous vous proposons de fêter la nouvelle année en se retrouvant pour un apéritif puis un repas - pour celles et ceux qui le souhaitent .Tous les membres de Centrale-Supelec de notre région y...
URL:https://association.centralesupelec-alumni.com/fr/group/occitanie-me-diterranee-csa/305/calendar/soiree-voeux-2026/2026/01/30/9684
BEGIN:VALARM
TRIGGER:-P0DT1H0M0S
ACTION:DISPLAY
END:VALARM
END:VEVENT
END:VCALENDAR