BEGIN:VCALENDAR
VERSION:2.0
PRODID:-//hacksw/handcal//NONSGML v1.0//EN
BEGIN:VEVENT
DTSTART:20260115T190000Z
DTEND:20260116T220000Z
LOCATION:Cave à Vins  Le Coq Gourmand \n39, Rue Fort Notre Dame \n13001 MARSEILLE
ORGANIZER;CN=Philippe Cabrit - Provence (CSA):MAILTO:philippe.cabrit@centralesupelec-alumni.com
SUMMARY:Soirée thématique, galette des rois & accueil des jeunes diplômés et nouveaux arrivants en Provence
DESCRIPTION:Soirée thématique, galette des rois & accueil des jeunes diplômés et nouveaux arrivants en ProvenceJeudi 15 janvier 2026      20:00 - 23:00  Cave à Vins Le Coq Gourmand 39 rue Fort Notre Dame 13001...
URL:https://association.centralesupelec-alumni.com/fr/group/provence-csa/347/calendar/soiree-thematique-galette-des-rois-accueil-des-jeunes-diplomes-et-nouveaux-arrivants-en-provence/2026/01/15/9666
BEGIN:VALARM
TRIGGER:-P0DT1H0M0S
ACTION:DISPLAY
END:VALARM
END:VEVENT
END:VCALENDAR