BEGIN:VCALENDAR
VERSION:2.0
PRODID:-//hacksw/handcal//NONSGML v1.0//EN
BEGIN:VEVENT
DTSTART:20260118T150000Z
DTEND:20260118T170000Z
LOCATION:Le Monte-Cristo \n11, Quai Chaussee des Moines \n44120 VERTOU
ORGANIZER;CN=Guillaume Landru - Ouest-Atlantique (CSA):MAILTO:guillaume.landru@gmail.com
SUMMARY:Vœux 2026 et galette
DESCRIPTION:Nous avons le plaisir de vous convier à notre Galette des Rois, un moment convivial à partager avec vos proches.Rendez-vous le dimanche 18 janvier à 16h au Monte-Cristo,  11 Quai Chaussée des Moines, ...
URL:https://association.centralesupelec-alumni.com/fr/group/ouest-atlantique-csa/297/calendar/voeux-2026-et-galette/2026/01/18/9652
BEGIN:VALARM
TRIGGER:-P0DT1H0M0S
ACTION:DISPLAY
END:VALARM
END:VEVENT
END:VCALENDAR