BEGIN:VCALENDAR
VERSION:2.0
PRODID:-//hacksw/handcal//NONSGML v1.0//EN
BEGIN:VEVENT
DTSTART:20260315T193000Z
DTEND:20260315T210000Z
LOCATION:Salle Gaveau \n45, Rue La Boétie \n75008 PARIS
ORGANIZER;CN=Jacqueline Pasdeloup - CSA Ile de France:MAILTO:jacqueline@asso-supelec.org
SUMMARY:Concert exceptionnel « Roberto Alagna : les airs des plus célèbres opéras de Verdi »
DESCRIPTION:\nTénor au parcours hors du commun et à la voix immédiatement reconnaissable, Roberto Alagna s’impose depuis quatre décennies comme l’une des figures incontournables du monde lyrique. Pour son grand...
URL:https://association.centralesupelec-alumni.com/fr/group/csa-ile-de-france/587/calendar/concert-exceptionnel-roberto-alagna-les-airs-des-plus-celebres-operas-de-verdi/2026/03/15/9646
BEGIN:VALARM
TRIGGER:-P0DT1H0M0S
ACTION:DISPLAY
END:VALARM
END:VEVENT
END:VCALENDAR