BEGIN:VCALENDAR
VERSION:2.0
PRODID:-//hacksw/handcal//NONSGML v1.0//EN
BEGIN:VEVENT
DTSTART:20260112T161500Z
DTEND:20260112T170000Z
LOCATION:Auditorium du bâtiment Eiffel \n3, Rue Joliot Curie \n91190 GIF-SUR-YVETTE
ORGANIZER;CN=Irina Jaubert - Économie Sociale & Solidaire (CSA):MAILTO:irina.jaubert@mailo.com
SUMMARY:Café Frappé "Des systèmes performants mais inadaptables? Le temps de la robustesse, inspirée du vivant"
DESCRIPTION:\n        @page { size: 21cm 29.7cm; margin: 2cm }         p { line-height: 115%; margin-bottom: 0.25cm; background: transparent }         strong { font-weight: bold }         em { font-style: italic ...
URL:https://association.centralesupelec-alumni.com/fr/group/economie-sociale-solidaire-csa/69/calendar/cafe-frappe-des-systemes-performants-mais-inadaptables-le-temps-de-la-robustesse-inspiree-du-vivant/2026/01/12/9641
BEGIN:VALARM
TRIGGER:-P0DT1H0M0S
ACTION:DISPLAY
END:VALARM
END:VEVENT
END:VCALENDAR