BEGIN:VCALENDAR
VERSION:2.0
PRODID:-//hacksw/handcal//NONSGML v1.0//EN
BEGIN:VEVENT
DTSTART:20251213T093000Z
DTEND:20251213T150000Z
LOCATION:Lycée Français Jean-Monnet \n9, Avenue du Lycée Français \n1180 UCCLE
ORGANIZER;CN=Frédéric Misheletti - Belgique (CSA):MAILTO:frederic.misheletti@gmail.com
SUMMARY:CentraleSupélec présent ce samedi 13 décembre 2025 au Lycée Français pour la 11ᵉ édition du Salon Campus France,
DESCRIPTION:CentraleSupélec sera présent ce samedi 13 décembre 2025 au Lycée Français Jean-Monnet à Uccle pour la 11ᵉ édition du Salon Campus France, avec Aude Egal (Chargée de promotion et de recrutement) pour...
URL:https://association.centralesupelec-alumni.com/fr/group/belgique-csa/55/calendar/centralesupelec-present-ce-samedi-13-decembre-2025-au-lycee-francais-pour-la-11-edition-du-salon-campus-france/2025/12/13/9639
BEGIN:VALARM
TRIGGER:-P0DT1H0M0S
ACTION:DISPLAY
END:VALARM
END:VEVENT
END:VCALENDAR