BEGIN:VCALENDAR
VERSION:2.0
PRODID:-//hacksw/handcal//NONSGML v1.0//EN
BEGIN:VEVENT
DTSTART:20251222T190000Z
DTEND:20251222T213000Z
LOCATION:Restaurant La Cigale \n7, Boulevard des Arceaux \n34000 MONTPELLIER
ORGANIZER;CN=Dominique Launay - Occitanie-Méditerranée (CSA):MAILTO:dominique.launay@centraliens.net
SUMMARY:DINER DE FIN D'ANNEE 2025
DESCRIPTION:Le groupe  régional CentraleSupelec d'Occitanie Méditerranée se retrouve pour terminer l'année en invitant les élèves des promotions en cours.Nous dinerons au restaurant "La Cigale" à Montpellier,...
URL:https://association.centralesupelec-alumni.com/fr/group/occitanie-me-diterranee-csa/305/calendar/diner-de-fin-d-annee-2025/2025/12/22/9624
BEGIN:VALARM
TRIGGER:-P0DT1H0M0S
ACTION:DISPLAY
END:VALARM
END:VEVENT
END:VCALENDAR