BEGIN:VCALENDAR
VERSION:2.0
PRODID:-//hacksw/handcal//NONSGML v1.0//EN
BEGIN:VEVENT
DTSTART:20251201T170000Z
DTEND:20251201T200000Z
LOCATION:Maison du Citoyen Connecté \nPlace de l'Europe \n49150 Baugé-en-Anjou
ORGANIZER;CN=Guillaume Landru - Ouest-Atlantique (CSA):MAILTO:guillaume.landru@gmail.com
SUMMARY:Conférence-Débat près d'Angers: les satellites météorologiques européens
DESCRIPTION:Bonjour,Yannick HENRY, Centrale Nantes Alumni, organise une conférence sur les satellites météorologiques européens.Elle se tiendra à la Maison du Citoyen Connecté, Place de l'Europe, à Baugé-en-Anjou...
URL:https://association.centralesupelec-alumni.com/fr/group/ouest-atlantique-csa/297/calendar/conference-debat-pres-d-angers-les-satellites-meteorologiques-europeens/2025/12/01/9607
BEGIN:VALARM
TRIGGER:-P0DT1H0M0S
ACTION:DISPLAY
END:VALARM
END:VEVENT
END:VCALENDAR