BEGIN:VCALENDAR
VERSION:2.0
PRODID:-//hacksw/handcal//NONSGML v1.0//EN
BEGIN:VEVENT
DTSTART:20251202T193000Z
DTEND:20251202T200000Z
LOCATION:https://kmeet.infomaniak.com/amgy-zggf-ooea-vvjo
ORGANIZER;CN=Patrick Coppin:MAILTO:patrick.coppin@gmail.com
SUMMARY:Réunion d'information TRAJECTOIRE
DESCRIPTION:s'inscrire: https://kmeet.infomaniak.com/amgy-zggf-ooea-vvjo
URL:https://association.centralesupelec-alumni.com/fr/event/reunion-d-information-trajectoire/2025/12/02/9606
BEGIN:VALARM
TRIGGER:-P0DT1H0M0S
ACTION:DISPLAY
END:VALARM
END:VEVENT
END:VCALENDAR