BEGIN:VCALENDAR
VERSION:2.0
PRODID:-//hacksw/handcal//NONSGML v1.0//EN
BEGIN:VEVENT
DTSTART:20251209T184500Z
DTEND:20251209T204500Z
LOCATION:La Maison des Centraliens \n8, Rue Jean Goujon \n75008 PARIS
ORGANIZER;CN=Hugo Hiel-Béraud - CSA Oenologie:MAILTO:hugo.hiel@outlook.com
SUMMARY:Dégustation Château Pichon Baron
DESCRIPTION:Rendez-vous le Mardi 9 Décembre à 19h45 à la maison des Centraliens !\nLe groupement CSA Oenologie a le plaisir d'accueillir le Château Pichon Baron, Second Grand Cru Classé en 1855, l'un des...
URL:https://association.centralesupelec-alumni.com/fr/group/csa-oenologie/597/calendar/degustation-chateau-pichon-baron/2025/12/09/9589
BEGIN:VALARM
TRIGGER:-P0DT1H0M0S
ACTION:DISPLAY
END:VALARM
END:VEVENT
END:VCALENDAR