BEGIN:VCALENDAR
VERSION:2.0
PRODID:-//hacksw/handcal//NONSGML v1.0//EN
BEGIN:VEVENT
DTSTART:20260109T180000Z
DTEND:20260109T200000Z
LOCATION:Maison CentraleSupelec
ORGANIZER;CN=Patrick Coppin:MAILTO:patrick.coppin@gmail.com
SUMMARY:VOEUX DU GROUPE CONTACT
DESCRIPTION:le 9 janvier à partir de 19 heures au 5ème étage de la Maison  CentraleSupelec, le groupe Contact invite ses membres actuels et ses membres passés à fêter le début d'année 2026.\nSelon une tradition...
URL:https://association.centralesupelec-alumni.com/fr/event/voeux-du-groupe-contact/2026/01/09/9587
BEGIN:VALARM
TRIGGER:-P0DT1H0M0S
ACTION:DISPLAY
END:VALARM
END:VEVENT
END:VCALENDAR