BEGIN:VCALENDAR
VERSION:2.0
PRODID:-//hacksw/handcal//NONSGML v1.0//EN
BEGIN:VEVENT
DTSTART:20260215T030000Z
DTEND:20260215T220000Z
LOCATION:Pologne
ORGANIZER;CN=Gabriela Belaid - CentraleSupelec Au Féminin (CSA):MAILTO:gabriela.belaid@centraliens.net
SUMMARY:Voyage de mémoire à Auschwitz – Dimanche 15 février 2026 -  Langage de Femmes x CentraleSupélec au Féminin
DESCRIPTION:pour s'inscrire  : https://www.helloasso.com/associations/langage-de-femmes/adhesions/voyage-auschwitz-15-fevrier-2026\nChaque année, vous êtes 180 femmes de tous horizons à nous faire confiance pour ...
URL:https://association.centralesupelec-alumni.com/fr/group/centralesupelec-au-feminin-csa/73/calendar/voyage-de-memoire-a-auschwitz-dimanche-15-fevrier-2026-langage-de-femmes-x-centralesupelec-au-feminin/2026/02/15/9583
BEGIN:VALARM
TRIGGER:-P0DT1H0M0S
ACTION:DISPLAY
END:VALARM
END:VEVENT
END:VCALENDAR