BEGIN:VCALENDAR
VERSION:2.0
PRODID:-//hacksw/handcal//NONSGML v1.0//EN
BEGIN:VEVENT
DTSTART:20251127T190000Z
DTEND:20251127T210000Z
LOCATION:Maison CentraleSupélec \n75008 Paris
ORGANIZER;CN=Grégoire Sanson:MAILTO:gsanson91@gmail.com
SUMMARY:Afterwork publiCS
DESCRIPTION:Rejoignez-nous pour notre afterwork publiCS ! 🎉PubliCS organise son afterwork de novembre à la Maison CentraleSupélec. Nous vous attendons nombreux.ses à cet événement qui permettra, nous l'espérons, ...
URL:https://association.centralesupelec-alumni.com/fr/event/afterwork-publics/2025/11/27/9577
BEGIN:VALARM
TRIGGER:-P0DT1H0M0S
ACTION:DISPLAY
END:VALARM
END:VEVENT
END:VCALENDAR