BEGIN:VCALENDAR
VERSION:2.0
PRODID:-//hacksw/handcal//NONSGML v1.0//EN
BEGIN:VEVENT
DTSTART:20251209T170000Z
DTEND:20251209T200000Z
LOCATION:Bar&Beurre \n254, Chaussée de Charleroi \n1060 Bruxelles
ORGANIZER;CN=Frédéric Misheletti - Belgique (CSA):MAILTO:frederic.misheletti@gmail.com
SUMMARY:Afterwork Centraliens "Fin d'année à Bruxelles" au Bar&Beurre
DESCRIPTION:Rejoignez-nous pour notre afterwork ! 🎉Cette soirée est ouverte à tous les diplômés de la CACCS (Confédération des Associations Centraliennes et CentraleSupélec).Pour clôturer cette année en beauté,...
URL:https://association.centralesupelec-alumni.com/fr/group/belgique-csa/55/calendar/afterwork-centraliens-fin-d-annee-a-bruxelles-au-bar-beurre/2025/12/09/9576
BEGIN:VALARM
TRIGGER:-P0DT1H0M0S
ACTION:DISPLAY
END:VALARM
END:VEVENT
END:VCALENDAR