BEGIN:VCALENDAR
VERSION:2.0
PRODID:-//hacksw/handcal//NONSGML v1.0//EN
BEGIN:VEVENT
DTSTART:20251129T133000Z
DTEND:20251129T173000Z
LOCATION:Mairie du 16eme Paris  \n71, Avenue Henri Martin \n75016 PARIS
ORGANIZER;CN=François Momal:MAILTO:francois.momal@centraliens.net
SUMMARY:Salon du Livre Mairie du 16eme samedi 29 novembre 2025  14h
DESCRIPTION:J'aurai la joie de signer mon dernier roman "Bawab, un héros de trop" (Editions Erick Bonnier) au Salon du Livre de la Mairie du 16eme le samedi 29 novembre 2025 à partir de 14h30. Beau salon dans la ...
URL:https://association.centralesupelec-alumni.com/fr/event/salon-du-livre-mairie-du-16eme-samedi-29-novembre-2025-14h/2025/11/29/9567
BEGIN:VALARM
TRIGGER:-P0DT1H0M0S
ACTION:DISPLAY
END:VALARM
END:VEVENT
END:VCALENDAR