BEGIN:VCALENDAR
VERSION:2.0
PRODID:-//hacksw/handcal//NONSGML v1.0//EN
BEGIN:VEVENT
DTSTART:20251118T173000Z
DTEND:20251118T210000Z
LOCATION:La Scène 2 \n190, Rue Pierre Duhem \n13290 AIX-EN-PROVENCE
ORGANIZER;CN=Philippe Cabrit - Provence (CSA):MAILTO:philippe.cabrit@centralesupelec-alumni.com
SUMMARY:Afterwork /afterschool CentraleSupelec Intergroupe Centrale
DESCRIPTION:AFTERWORK du mardi 18 novembre\nNotre prochain afterwork / afterschool aura lieu le mardi 18 novembre à la Scène2 aux  Milles à Aix en Provence . C'est dans la zone d'activités des Milles, bien...
URL:https://association.centralesupelec-alumni.com/fr/group/provence-csa/347/calendar/afterwork-afterschool-centralesupelec-intergroupe-centrale/2025/11/18/9521
BEGIN:VALARM
TRIGGER:-P0DT1H0M0S
ACTION:DISPLAY
END:VALARM
END:VEVENT
END:VCALENDAR