BEGIN:VCALENDAR
VERSION:2.0
PRODID:-//hacksw/handcal//NONSGML v1.0//EN
BEGIN:VEVENT
DTSTART:20251127T180000Z
DTEND:20251127T200000Z
LOCATION:ICAM \n35, Avenue du Champ de Manœuvres \n44470 CARQUEFOU
ORGANIZER;CN=Guillaume Landru - Ouest-Atlantique (CSA):MAILTO:guillaume.landru@gmail.com
SUMMARY:Conférence IESF - Transports routiers électriques, la réalité d’aujourd’hui !
DESCRIPTION:IESF Pays de la Loire vous propose une nouvelle conférence le 27 novembre 2025:\nEn 2024, 40 millions de voitures électriques (dont hybrides rechargeables) circulent dans le monde, il y en avait 17...
URL:https://association.centralesupelec-alumni.com/fr/group/ouest-atlantique-csa/297/calendar/conference-iesf-transports-routiers-electriques-la-realite-d-aujourd-hui/2025/11/27/9494
BEGIN:VALARM
TRIGGER:-P0DT1H0M0S
ACTION:DISPLAY
END:VALARM
END:VEVENT
END:VCALENDAR