BEGIN:VCALENDAR
VERSION:2.0
PRODID:-//hacksw/handcal//NONSGML v1.0//EN
BEGIN:VEVENT
DTSTART:20251127T080000Z
DTEND:20251127T160000Z
LOCATION:
ORGANIZER;CN=Catherine Gibert - CentraleSupelec Au Féminin (CSA):MAILTO:catherine.gibert.1997@centralesupelec-alumni.com
SUMMARY:Participez à la 5è édition du forum virtuel “Ingénieur.e ? C’ pour moi !”
DESCRIPTION:L’association Femmes Ingénieures dont nous sommes partenaires organise la 5ᵉ édition de son grand forum métiers “Ingénieur.e ? C’ pour moi !”, un événement immersif, gratuit et accessible à tous,...
URL:https://association.centralesupelec-alumni.com/fr/group/centralesupelec-au-feminin-csa/73/calendar/participez-a-la-5e-edition-du-forum-virtuel-ingenieur-e-c-pour-moi/2025/11/27/9470
BEGIN:VALARM
TRIGGER:-P0DT1H0M0S
ACTION:DISPLAY
END:VALARM
END:VEVENT
END:VCALENDAR