BEGIN:VCALENDAR
VERSION:2.0
PRODID:-//hacksw/handcal//NONSGML v1.0//EN
BEGIN:VEVENT
DTSTART:20260529T230000Z
DTEND:20260606T215500Z
LOCATION:SICILE
ORGANIZER;CN=Jean-Jacques Henry - CSA Ile de France:MAILTO:jjghenry@gmail.com
SUMMARY:VOYAGE EN SICILE
DESCRIPTION:Circuit du 30 mai au 6 juin 2026 en Sicile Inscrivez-vous avant le 10 octobre 2026 Découvrir la Sicile c’est feuilleter un merveilleux livre sur l’histoire de la méditerranée.   Phéniciens, Grecs,...
URL:https://association.centralesupelec-alumni.com/fr/group/csa-ile-de-france/587/calendar/voyage-en-sicile/2026/05/30/9445
BEGIN:VALARM
TRIGGER:-P0DT1H0M0S
ACTION:DISPLAY
END:VALARM
END:VEVENT
END:VCALENDAR