BEGIN:VCALENDAR
VERSION:2.0
PRODID:-//hacksw/handcal//NONSGML v1.0//EN
BEGIN:VEVENT
DTSTART:20251127T173000Z
DTEND:20251127T193000Z
LOCATION:Cabinet HAYS Salle du 7e étage \n147, Boulevard Haussmann \n75008 PARIS
ORGANIZER;CN=Patrick Coppin:MAILTO:patrick.coppin@gmail.com
SUMMARY:Atelier : Les conseils d'un cabinet de recrutement pour utiliser LINKEDIN pour optimiser votre personal branding
DESCRIPTION: En collaboration avec le cabinet HAYSAtelier en présentiel chez HAYS Un atelier pratique pour vous guider et vous conseiller pour utiliser LinkedIn dans votre recherche d’un nouveau...
URL:https://association.centralesupelec-alumni.com/fr/event/atelier-les-conseils-d-un-cabinet-de-recrutement-pour-utiliser-linkedin-pour-optimiser-votre-personal-branding/2025/11/27/9433
BEGIN:VALARM
TRIGGER:-P0DT1H0M0S
ACTION:DISPLAY
END:VALARM
END:VEVENT
END:VCALENDAR