BEGIN:VCALENDAR
VERSION:2.0
PRODID:-//hacksw/handcal//NONSGML v1.0//EN
BEGIN:VEVENT
DTSTART:20260513T163000Z
DTEND:20260517T150000Z
LOCATION:Saint Malo \nPort des Bas Sablons
ORGANIZER;CN=Claude Bailly - Voile Centralienne et Supélec:MAILTO:g.claude.bailly@gmail.com
SUMMARY:Croisière des Isles 2026
DESCRIPTION:La Croisière des Isles rassemble pendant quatre jours les camarades naviguant à la voile. Débutant ou expérimenté, rejoins nous, seul ou avec ta famille ou tes amis.  Nous naviguons soit sur nos...
URL:https://association.centralesupelec-alumni.com/fr/group/voile-centralienne-et-supelec/345/calendar/croisiere-des-isles-2026/2026/05/13/9431
BEGIN:VALARM
TRIGGER:-P0DT1H0M0S
ACTION:DISPLAY
END:VALARM
END:VEVENT
END:VCALENDAR