BEGIN:VCALENDAR
VERSION:2.0
PRODID:-//hacksw/handcal//NONSGML v1.0//EN
BEGIN:VEVENT
DTSTART:20251129T183000Z
DTEND:20251129T230000Z
LOCATION:restaurant Le Dalou à Paris \n30, Place de la Nation \n75012 PARIS
ORGANIZER;CN=Claude Bailly - Voile Centralienne et Supélec:MAILTO:g.claude.bailly@gmail.com
SUMMARY:Dîner annuel des voileux
DESCRIPTION:Retrouvons nous pour un dîner convivial à Paris pendant le salon "Paris nautic show" à la brasserie Le DalouSamedi 29 novembre à 19:30L'occasion d'échanger nos souvenirs de navigation et de préparer...
URL:https://association.centralesupelec-alumni.com/fr/group/voile-centralienne-et-supelec/345/calendar/diner-annuel-des-voileux/2025/11/29/9430
BEGIN:VALARM
TRIGGER:-P0DT1H0M0S
ACTION:DISPLAY
END:VALARM
END:VEVENT
END:VCALENDAR