BEGIN:VCALENDAR
VERSION:2.0
PRODID:-//hacksw/handcal//NONSGML v1.0//EN
BEGIN:VEVENT
DTSTART:20251006T103000Z
DTEND:20251006T120000Z
LOCATION:maison centralesupelec \n8, Rue Jean Goujon \n75008 PARIS
ORGANIZER;CN=Patrick Coppin:MAILTO:patrick.coppin@gmail.com
SUMMARY:RESERVATION DEJEUNER AVEC H BOMMELAER
DESCRIPTION:Uniquement pour les membres du Groupe Contact désirant continuer la conversation avec H Bommelaer autour d'un buffet.\nLimite d'inscription jeudi 2 octobre à 13h\n
URL:https://association.centralesupelec-alumni.com/fr/event/reservation-dejeuner-avec-h-bommelaer/2025/10/06/9426
BEGIN:VALARM
TRIGGER:-P0DT1H0M0S
ACTION:DISPLAY
END:VALARM
END:VEVENT
END:VCALENDAR