BEGIN:VCALENDAR
VERSION:2.0
PRODID:-//hacksw/handcal//NONSGML v1.0//EN
BEGIN:VEVENT
DTSTART:20251009T063000Z
DTEND:20251009T080000Z
LOCATION:Association HEC Alumni \n9, Avenue Franklin Delano Roosevelt \n75008 PARIS
ORGANIZER;CN=Jean-Christophe Strich - Repreneurs (CSA):MAILTO:jc.strich@free.fr
SUMMARY:Repreneurs : Reprendre à la barre – Osez l’aventure ! par HEC Alumni Club Repreneurs
DESCRIPTION:Cher(e) camarade Repreneur(se),🍾  Il y a les reprises qui sentent le champagne : levées de fonds, pitchs scintillants, investisseurs séduits.🔑 Et puis il y a les reprises “à la barre”, devant le...
URL:https://association.centralesupelec-alumni.com/fr/group/repreneurs-csa/331/calendar/repreneurs-reprendre-a-la-barre-osez-l-aventure-par-hec-alumni-club-repreneurs/2025/10/09/9420
BEGIN:VALARM
TRIGGER:-P0DT1H0M0S
ACTION:DISPLAY
END:VALARM
END:VEVENT
END:VCALENDAR