BEGIN:VCALENDAR
VERSION:2.0
PRODID:-//hacksw/handcal//NONSGML v1.0//EN
BEGIN:VEVENT
DTSTART:20251006T090000Z
DTEND:20251006T101500Z
LOCATION:Maison des Polytechniciens \n12, Rue de Poitiers \n75007 PARIS
ORGANIZER;CN=Jean-Christophe Strich - Repreneurs (CSA):MAILTO:jc.strich@free.fr
SUMMARY:Repreneurs : Annonce d'un cycle de formation XMP Entrepreneurs 2025 : « REPRENDRE UNE ENTREPRISE, AVEC OU SANS FONDS D’INVESTISSEMENT »
DESCRIPTION:Cher Camarade Repreneur(se), CS Repreneurs, membre de G2E - Grandes Ecoles Entrepreneurs, vous informe que le prochain cycle de la formation XMP Entrepreneur sur le thème : « REPRENDRE UNE...
URL:https://association.centralesupelec-alumni.com/fr/group/repreneurs-csa/331/calendar/repreneurs-annonce-d-un-cycle-de-formation-xmp-entrepreneurs-2025-reprendre-une-entreprise-avec-ou-sans-fonds-d-investissement/2025/10/06/9419
BEGIN:VALARM
TRIGGER:-P0DT1H0M0S
ACTION:DISPLAY
END:VALARM
END:VEVENT
END:VCALENDAR