BEGIN:VCALENDAR
VERSION:2.0
PRODID:-//hacksw/handcal//NONSGML v1.0//EN
BEGIN:VEVENT
DTSTART:20251127T190000Z
DTEND:20251127T210000Z
LOCATION:Cité de la musique - Philharmonie de Paris \n221, Avenue Jean Jaurès \n75019 PARIS
ORGANIZER;CN=Jacqueline Pasdeloup - CSA Ile de France:MAILTO:jacqueline@asso-supelec.org
SUMMARY:Concertos Brandebourgeois à la Cité de la Musique / Date limite d'inscription : 6 novembre 2025
DESCRIPTION:Crédits photo : Orchestre de Paris © Ava du Parc ATTENTION DATE LIMITE D'INSCRIPTION : 6 NOVEMBRE 2025  Au programme :  - JB Bach : Concertos Brandebourgeois n° 4, 5 et 6  - Berio : Notturno pour...
URL:https://association.centralesupelec-alumni.com/fr/group/csa-ile-de-france/587/calendar/concertos-brandebourgeois-a-la-cite-de-la-musique-date-limite-d-inscription-6-novembre-2025/2025/11/27/9408
BEGIN:VALARM
TRIGGER:-P0DT1H0M0S
ACTION:DISPLAY
END:VALARM
END:VEVENT
END:VCALENDAR