BEGIN:VCALENDAR
VERSION:2.0
PRODID:-//hacksw/handcal//NONSGML v1.0//EN
BEGIN:VEVENT
DTSTART:20251001T160000Z
DTEND:20251001T170000Z
LOCATION:
ORGANIZER;CN=Bernard Depouilly - Management de Transition (CSA):MAILTO:bdepouilly@hotmail.com
SUMMARY:Présentation Baromètre France Transition 1er Semestre 2025
DESCRIPTION:Comme annoncé dans le message émis aux membres de CSMT ce jour, cette présentation aura lieu le 1er octobre 2025 de 18h à19h.Cordialement.Bernard
URL:https://association.centralesupelec-alumni.com/fr/group/management-de-transition-csa/467/calendar/presentation-barometre-france-transition-1er-semestre-2025/2025/10/01/9368
BEGIN:VALARM
TRIGGER:-P0DT1H0M0S
ACTION:DISPLAY
END:VALARM
END:VEVENT
END:VCALENDAR