BEGIN:VCALENDAR
VERSION:2.0
PRODID:-//hacksw/handcal//NONSGML v1.0//EN
BEGIN:VEVENT
DTSTART:20251014T163000Z
DTEND:20251014T190000Z
LOCATION:Campus emlyon business school  \n15, Boulevard Diderot \n75012 PARIS
ORGANIZER;CN=Patrick Coppin:MAILTO:patrick.coppin@gmail.com
SUMMARY:Mixité des instances dirigeantes : état des lieux, actions engagées et défis persistants
DESCRIPTION:Le G16+ a le plaisir de vous convier à une soirée d’échanges exceptionnelle ! Inscriptions ouvertes en bas de cette page ! \nLe 14 octobre de 18h30 à 21h00, rencontrez Marie-Pierre Rixain, députée de ...
URL:https://association.centralesupelec-alumni.com/fr/event/mixite-des-instances-dirigeantes-etat-des-lieux-actions-engagees-et-defis-persistants/2025/10/14/9360
BEGIN:VALARM
TRIGGER:-P0DT1H0M0S
ACTION:DISPLAY
END:VALARM
END:VEVENT
END:VCALENDAR