BEGIN:VCALENDAR
VERSION:2.0
PRODID:-//hacksw/handcal//NONSGML v1.0//EN
BEGIN:VEVENT
DTSTART:20251002T110000Z
DTEND:20251002T123000Z
LOCATION:https://teams.microsoft.com/l/meetup-join/19:meeting_MzQ0OGVmMDMtNjBlYi00NjhkLWJlMTEtNTRmNmE1MWU3N2Y5@thread.v2/0?context={"Tid":"7bdc0625-eb51-4344-b9cb-d4606ecf244c","Oid":"42772f75-7b31-4242-b173-945230e2b084"}
ORGANIZER;CN=Patrick Coppin:MAILTO:patrick.coppin@gmail.com
SUMMARY:Retraite internationale : comprendre, anticiper, agir
DESCRIPTION:Expatriés, impatriés, carrières internationales… Comment fonctionne une retraite internationale et quelles démarches entreprendre pour sécuriser ses droits ?\nAu programme :\n✔️ Comprendre les règles ...
URL:https://association.centralesupelec-alumni.com/fr/event/retraite-internationale-comprendre-anticiper-agir/2025/10/02/9353
BEGIN:VALARM
TRIGGER:-P0DT1H0M0S
ACTION:DISPLAY
END:VALARM
END:VEVENT
END:VCALENDAR