BEGIN:VCALENDAR
VERSION:2.0
PRODID:-//hacksw/handcal//NONSGML v1.0//EN
BEGIN:VEVENT
DTSTART:20251007T163000Z
DTEND:20251007T190000Z
LOCATION:Maison CentraleSupélec \n8, Rue Jean Goujon \n75008 PARIS
ORGANIZER;CN=Jacques Millery - Ingénieur et Développement Durable (CSA):MAILTO:jacques.millery@centraliens.net
SUMMARY:Fresque de l'Entreprise Régénérative
DESCRIPTION:Vous ne savez pas quel sera l'avenir de votre entreprise dans un monde où elle semble condamnée à impacter notre environnement de manière négative ?\nVenez reconsidérer votre point de vue en...
URL:https://association.centralesupelec-alumni.com/fr/group/ingenieur-et-developpement-durable-csa/67/calendar/fresque-de-l-entreprise-regenerative/2025/10/07/9351
BEGIN:VALARM
TRIGGER:-P0DT1H0M0S
ACTION:DISPLAY
END:VALARM
END:VEVENT
END:VCALENDAR