BEGIN:VCALENDAR
VERSION:2.0
PRODID:-//hacksw/handcal//NONSGML v1.0//EN
BEGIN:VEVENT
DTSTART:20251216T173000Z
DTEND:20251216T203000Z
LOCATION:Maison CentraleSupélec \n8, Rue Jean Goujon \n75008 PARIS
ORGANIZER;CN=CentraleSupélec Alumni:MAILTO:csa-alumni@centralesupelec-alumni.com
SUMMARY:Afterwork spécial "Noël" :xmas_tree::sparkles:
DESCRIPTION:\nRejoignez-nous pour notre afterwork ! 🎉Cette soirée est ouverte à tous les diplômés de la CACCS (Confédération des Associations Centraliennes et CentraleSupélec).Ces rencontres régulières vous...
URL:https://association.centralesupelec-alumni.com/fr/event/afterwork-special-noel-xmas-tree-sparkles/2025/12/16/9350
BEGIN:VALARM
TRIGGER:-P0DT1H0M0S
ACTION:DISPLAY
END:VALARM
END:VEVENT
END:VCALENDAR