BEGIN:VCALENDAR
VERSION:2.0
PRODID:-//hacksw/handcal//NONSGML v1.0//EN
BEGIN:VEVENT
DTSTART:20251202T180000Z
DTEND:20251202T190000Z
LOCATION:https://us02web.zoom.us/j/7216080991
ORGANIZER;CN=CentraleSupélec Alumni:MAILTO:csa-alumni@centralesupelec-alumni.com
SUMMARY:Conférence : "Comment construire son allocation d'actifs"
DESCRIPTION:Code d'accès du webinar Code secret : 050725...
URL:https://association.centralesupelec-alumni.com/fr/event/conference-comment-construire-son-allocation-d-actifs/2025/12/02/9341
BEGIN:VALARM
TRIGGER:-P0DT1H0M0S
ACTION:DISPLAY
END:VALARM
END:VEVENT
END:VCALENDAR