BEGIN:VCALENDAR
VERSION:2.0
PRODID:-//hacksw/handcal//NONSGML v1.0//EN
BEGIN:VEVENT
DTSTART:20251015T100000Z
DTEND:20251015T120000Z
LOCATION:Gemmyo Omotesando \nShibuya-ku, Jingumae 5-6-13 \n1500001 Tokyo
ORGANIZER;CN=Laurent Wolff - Japon (CSA):MAILTO:laurent.wolff@centraliens.net
SUMMARY:Cocktail and networking in Gemmyo, Tokyo
DESCRIPTION:Dear all, Charif Debs, ECP05, invites us for a Centrale Supélec networking event on October 15, from 7pm to 9pm. An entrepreneur, Charif will celebrate the first anniversary of Gemmyo in Japan, the...
URL:https://association.centralesupelec-alumni.com/fr/group/japon-csa/237/calendar/cocktail-and-networking-in-gemmyo-tokyo/2025/10/15/9334
BEGIN:VALARM
TRIGGER:-P0DT1H0M0S
ACTION:DISPLAY
END:VALARM
END:VEVENT
END:VCALENDAR