BEGIN:VCALENDAR
VERSION:2.0
PRODID:-//hacksw/handcal//NONSGML v1.0//EN
BEGIN:VEVENT
DTSTART:20250924T010000Z
DTEND:20250924T040000Z
LOCATION:Victory Hall \n360 Ritch St
ORGANIZER;CN=Alain Raynaud - USA (CSA):MAILTO:alain@fairsoftware.net
SUMMARY:Afterwork a San Francisco
DESCRIPTION:Rejoignez-nous pour le prochain after-work de la Bay Area, le mardi 23 septembre a partir de 18h. On se retrouve au Victory Hall SF, 360 Ritch St, San Francisco.
URL:https://association.centralesupelec-alumni.com/fr/group/usa-csa/209/calendar/afterwork-a-san-francisco/2025/09/24/9328
BEGIN:VALARM
TRIGGER:-P0DT1H0M0S
ACTION:DISPLAY
END:VALARM
END:VEVENT
END:VCALENDAR