BEGIN:VCALENDAR
VERSION:2.0
PRODID:-//hacksw/handcal//NONSGML v1.0//EN
BEGIN:VEVENT
DTSTART:20250922T170000Z
DTEND:20250922T190000Z
LOCATION:Hotel des Arts et Metiers
ORGANIZER;CN=Christian Ledoux - Automobile (CSA):MAILTO:christian.ledoux64@outlook.fr
SUMMARY:Rencontre avec Thierry Charvet,  directeur Industrie & Qualité du groupe Renault
DESCRIPTION:\n Lien d'inscription : https://www.arts-et-metiers.asso.fr/events/187485   ou   https://www.arts-et-metiers.asso.fr/networks/events/187485 \nThierry Charvet, patron industriel et qualité du Groupe...
URL:https://association.centralesupelec-alumni.com/fr/group/automobile-csa/317/calendar/rencontre-avec-thierry-charvet-directeur-industrie-qualite-du-groupe-renault/2025/09/22/9323
BEGIN:VALARM
TRIGGER:-P0DT1H0M0S
ACTION:DISPLAY
END:VALARM
END:VEVENT
END:VCALENDAR