BEGIN:VCALENDAR
VERSION:2.0
PRODID:-//hacksw/handcal//NONSGML v1.0//EN
BEGIN:VEVENT
DTSTART:20251027T183000Z
DTEND:20251027T210000Z
LOCATION:Maison des X
ORGANIZER;CN=Christian Ledoux - Automobile (CSA):MAILTO:christian.ledoux64@outlook.fr
SUMMARY:Watt Else : l'électrique partout pour tous ?
DESCRIPTION:Débat conférence de X-Auto :\nSpeakers : Philippe Divry, CEO de FlexisAurélien de Meaux, CEO d’Electra,Pascale Herman, Directrice Product Marketing chez Valeo et Présidente CRA 2025 (PFA)Modération...
URL:https://association.centralesupelec-alumni.com/fr/group/automobile-csa/317/calendar/watt-else-l-electrique-partout-pour-tous/2025/10/27/9322
BEGIN:VALARM
TRIGGER:-P0DT1H0M0S
ACTION:DISPLAY
END:VALARM
END:VEVENT
END:VCALENDAR