BEGIN:VCALENDAR
VERSION:2.0
PRODID:-//hacksw/handcal//NONSGML v1.0//EN
BEGIN:VEVENT
DTSTART:20250923T183000Z
DTEND:20250923T193000Z
LOCATION:https://kmeet.infomaniak.com/zwikf7cif823zloj69vasxe0
ORGANIZER;CN=Jacqueline Pasdeloup:MAILTO:jacqueline@asso-supelec.org
SUMMARY:Réunion d'information Trajectoire
DESCRIPTION:\nPour vous inscrire\nVotre contact CentraleSupélec Alumni pour toute question :\nJacqueline Pasdeloup : jacqueline.pasdeloup@centralesupelec-alumni.org
URL:https://association.centralesupelec-alumni.com/fr/event/reunion-d-information-trajectoire/2025/09/23/9312
BEGIN:VALARM
TRIGGER:-P0DT1H0M0S
ACTION:DISPLAY
END:VALARM
END:VEVENT
END:VCALENDAR