BEGIN:VCALENDAR
VERSION:2.0
PRODID:-//hacksw/handcal//NONSGML v1.0//EN
BEGIN:VEVENT
DTSTART:20251013T100000Z
DTEND:20251013T160000Z
LOCATION:Ecole CentraleSupelec \n3 Rue Joliot Curie \n91190  Gif-sur-Yvette
ORGANIZER;CN=Patrick Coppin:MAILTO:patrick.coppin@gmail.com
SUMMARY:Tables rondes Métier avec les élèves (Be prepared avant le FORUM)
DESCRIPTION:Comme tous les ans l'équipe  du Forum CentraleSupelec organise un après-midi de rencontre entre les élèves et les diplômés de Centrale Paris et Supelec.Le but étant de préparer les élèves pour qu'ils ...
URL:https://association.centralesupelec-alumni.com/fr/event/tables-rondes-metier-avec-les-eleves-be-prepared-avant-le-forum/2025/10/13/9292
BEGIN:VALARM
TRIGGER:-P0DT1H0M0S
ACTION:DISPLAY
END:VALARM
END:VEVENT
END:VCALENDAR