BEGIN:VCALENDAR
VERSION:2.0
PRODID:-//hacksw/handcal//NONSGML v1.0//EN
BEGIN:VEVENT
DTSTART:20251018T133000Z
DTEND:20251018T160000Z
LOCATION:Théâtre Antoine \n14, Boulevard de Strasbourg \n75010 PARIS
ORGANIZER;CN=Jacqueline Pasdeloup - CSA Ile de France:MAILTO:jacqueline@asso-supelec.org
SUMMARY:Pièce de théâtre « Le Bourgeois Gentilhomme » de Molière au Théâtre Antoine
DESCRIPTION:\nInvitation au Théâtre : Un classique revisité avec panache ! Préparez-vous à une escapade théâtrale haute en couleurs ! Le samedi 18 octobre à 16 h, nous vous proposons de (re)découvrir Le Bourgeois...
URL:https://association.centralesupelec-alumni.com/fr/group/csa-ile-de-france/587/calendar/piece-de-theatre-le-bourgeois-gentilhomme-de-moliere-au-theatre-antoine/2025/10/18/9268
BEGIN:VALARM
TRIGGER:-P0DT1H0M0S
ACTION:DISPLAY
END:VALARM
END:VEVENT
END:VCALENDAR