BEGIN:VCALENDAR
VERSION:2.0
PRODID:-//hacksw/handcal//NONSGML v1.0//EN
BEGIN:VEVENT
DTSTART:20250923T170000Z
DTEND:20250923T190000Z
LOCATION:Productivix \n13, Rue Victor Hugo \n38300 BOURGOIN-JALLIEU
ORGANIZER;CN=Philippe Chinkirch - Dauphiné - Savoie (CSA):MAILTO:philippe.chinkirch@centraliens.net
SUMMARY:Soirée entrepreneuriat
DESCRIPTION:Tu t’intéresses à l’entreprenariat, à la création, au développement ou à la reprise d’entreprise ? Tu souhaites étendre ton réseau professionnel ou tes connaissances dans ce domaine ? Tu souhaites...
URL:https://association.centralesupelec-alumni.com/fr/group/dauphine-savoie-csa/307/calendar/soiree-entrepreneuriat/2025/09/23/9261
BEGIN:VALARM
TRIGGER:-P0DT1H0M0S
ACTION:DISPLAY
END:VALARM
END:VEVENT
END:VCALENDAR