BEGIN:VCALENDAR
VERSION:2.0
PRODID:-//hacksw/handcal//NONSGML v1.0//EN
BEGIN:VEVENT
DTSTART:20251205T120000Z
DTEND:20251205T130000Z
LOCATION:https://us02web.zoom.us/j/85139490987?pwd=lM0snlNOSGVznpXPwIjOjFjDtufLBL.1   ID : 851 3949 0987           Code secret : 348604
ORGANIZER;CN=Jacqueline Pasdeloup:MAILTO:jacqueline@asso-supelec.org
SUMMARY:Webinaire « Mieux adapter sa communication à celle des autres »
DESCRIPTION:\nCet atelier est pour vous si vous souhaitez : Améliorer votre communication, notamment dans des contextes de recrutement, de management ou plus généralement de relations professionnelles. L’objectif...
URL:https://association.centralesupelec-alumni.com/fr/event/webinaire-mieux-adapter-sa-communication-a-celle-des-autres/2025/12/05/9254
BEGIN:VALARM
TRIGGER:-P0DT1H0M0S
ACTION:DISPLAY
END:VALARM
END:VEVENT
END:VCALENDAR