BEGIN:VCALENDAR
VERSION:2.0
PRODID:-//hacksw/handcal//NONSGML v1.0//EN
BEGIN:VEVENT
DTSTART:20251128T120000Z
DTEND:20251128T130000Z
LOCATION:https://us02web.zoom.us/j/81134556381?pwd=CAa9KeAHRaSnQ88svXNtvooUbGaeOw.1  ID : 811 3455 6381   Code secret 709216
ORGANIZER;CN=Jacqueline Pasdeloup:MAILTO:jacqueline@asso-supelec.org
SUMMARY:Webinaire « Réseauter pour développer sa visibilité et son employabilité »
DESCRIPTION:\nCet atelier est pour vous si vous souhaitez :Comprendre et apprendre la démarche réseau. Cette approche est centrale dans la recherche d’emploi, elle représente 60 à 80% de votre accès au marché des...
URL:https://association.centralesupelec-alumni.com/fr/event/webinaire-reseauter-pour-developper-sa-visibilite-et-son-employabilite/2025/11/28/9253
BEGIN:VALARM
TRIGGER:-P0DT1H0M0S
ACTION:DISPLAY
END:VALARM
END:VEVENT
END:VCALENDAR