BEGIN:VCALENDAR
VERSION:2.0
PRODID:-//hacksw/handcal//NONSGML v1.0//EN
BEGIN:VEVENT
DTSTART:20251003T110000Z
DTEND:20251003T120000Z
LOCATION:https://us02web.zoom.us/j/85268108529?pwd=wj3j7jtCBdMuHjmxJjhF5k9g27Li1M.1  ID de réunion: 852 6810 8529   Code secret: 498742
ORGANIZER;CN=Jacqueline Pasdeloup:MAILTO:jacqueline@asso-supelec.org
SUMMARY:Webinaire « Répondre aux questions difficiles et aux objections en entretien »
DESCRIPTION:\nLes inscriptions seront ouvertes jusqu'au 3 octobre à 12 h 30\nCe webinaire est pour vous si :\nvous êtes en recherche d’une nouvelle opportunité professionnelle et passez ou allez passer des...
URL:https://association.centralesupelec-alumni.com/fr/event/webinaire-repondre-aux-questions-difficiles-et-aux-objections-en-entretien/2025/10/03/9251
BEGIN:VALARM
TRIGGER:-P0DT1H0M0S
ACTION:DISPLAY
END:VALARM
END:VEVENT
END:VCALENDAR